BEGIN:VCALENDAR
VERSION:2.0
PRODID:-//RK parochies st. Anna-Lambertus / St. Theresia-Jozef - ECPv6.15.20//NONSGML v1.0//EN
CALSCALE:GREGORIAN
METHOD:PUBLISH
X-ORIGINAL-URL:https://www.rk-parochiesmaastrichtwest.nl
X-WR-CALDESC:Evenementen voor RK parochies st. Anna-Lambertus / St. Theresia-Jozef
REFRESH-INTERVAL;VALUE=DURATION:PT1H
X-Robots-Tag:noindex
X-PUBLISHED-TTL:PT1H
BEGIN:VTIMEZONE
TZID:Europe/Amsterdam
BEGIN:DAYLIGHT
TZOFFSETFROM:+0100
TZOFFSETTO:+0200
TZNAME:CEST
DTSTART:20250330T010000
END:DAYLIGHT
BEGIN:STANDARD
TZOFFSETFROM:+0200
TZOFFSETTO:+0100
TZNAME:CET
DTSTART:20251026T010000
END:STANDARD
BEGIN:DAYLIGHT
TZOFFSETFROM:+0100
TZOFFSETTO:+0200
TZNAME:CEST
DTSTART:20260329T010000
END:DAYLIGHT
BEGIN:STANDARD
TZOFFSETFROM:+0200
TZOFFSETTO:+0100
TZNAME:CET
DTSTART:20261025T010000
END:STANDARD
BEGIN:DAYLIGHT
TZOFFSETFROM:+0100
TZOFFSETTO:+0200
TZNAME:CEST
DTSTART:20270328T010000
END:DAYLIGHT
BEGIN:STANDARD
TZOFFSETFROM:+0200
TZOFFSETTO:+0100
TZNAME:CET
DTSTART:20271031T010000
END:STANDARD
END:VTIMEZONE
BEGIN:VEVENT
DTSTART;TZID=Europe/Amsterdam:20260405T100000
DTEND;TZID=Europe/Amsterdam:20260405T100000
DTSTAMP:20260420T061443
CREATED:20260403T144110Z
LAST-MODIFIED:20260403T144555Z
UID:30192-1775383200-1775383200@www.rk-parochiesmaastrichtwest.nl
SUMMARY:St. Annakerk\, 1e paasdag H. Mis 10.00 uur\, m.m.v. vocalgroup Alliance
DESCRIPTION:
URL:https://www.rk-parochiesmaastrichtwest.nl/event/st-annakerk-1e-paasdag-10-00-uur-m-m-v-vocalgroup-alliance/
LOCATION:St. Annakerk\, Via Regia 100\, 6217 JW Maastricht\, Via Regia 100\, Maastricht\, 6217 JW
END:VEVENT
BEGIN:VEVENT
DTSTART;TZID=Europe/Amsterdam:20260405T113000
DTEND;TZID=Europe/Amsterdam:20260405T113000
DTSTAMP:20260420T061443
CREATED:20260403T144151Z
LAST-MODIFIED:20260403T144541Z
UID:30194-1775388600-1775388600@www.rk-parochiesmaastrichtwest.nl
SUMMARY:St. Theresia-Jozefkapel\, 1e paasdag\, H. Mis 11.30 uur\, orgel J. Devens
DESCRIPTION:
URL:https://www.rk-parochiesmaastrichtwest.nl/event/st-theresia-jozefkapel-1e-paasdag-11-30-uur/
LOCATION:St. Theresia_Jozefkerk\, (zij-ingang Theresiakerk aan de D’Artagnanlaan) Maastricht
END:VEVENT
END:VCALENDAR