BEGIN:VCALENDAR
VERSION:2.0
PRODID:-//RK parochies st. Anna-Lambertus / St. Theresia-Jozef - ECPv6.15.20//NONSGML v1.0//EN
CALSCALE:GREGORIAN
METHOD:PUBLISH
X-WR-CALNAME:RK parochies st. Anna-Lambertus / St. Theresia-Jozef
X-ORIGINAL-URL:https://www.rk-parochiesmaastrichtwest.nl
X-WR-CALDESC:Evenementen voor RK parochies st. Anna-Lambertus / St. Theresia-Jozef
REFRESH-INTERVAL;VALUE=DURATION:PT1H
X-Robots-Tag:noindex
X-PUBLISHED-TTL:PT1H
BEGIN:VTIMEZONE
TZID:Europe/Amsterdam
BEGIN:DAYLIGHT
TZOFFSETFROM:+0100
TZOFFSETTO:+0200
TZNAME:CEST
DTSTART:20250330T010000
END:DAYLIGHT
BEGIN:STANDARD
TZOFFSETFROM:+0200
TZOFFSETTO:+0100
TZNAME:CET
DTSTART:20251026T010000
END:STANDARD
BEGIN:DAYLIGHT
TZOFFSETFROM:+0100
TZOFFSETTO:+0200
TZNAME:CEST
DTSTART:20260329T010000
END:DAYLIGHT
BEGIN:STANDARD
TZOFFSETFROM:+0200
TZOFFSETTO:+0100
TZNAME:CET
DTSTART:20261025T010000
END:STANDARD
BEGIN:DAYLIGHT
TZOFFSETFROM:+0100
TZOFFSETTO:+0200
TZNAME:CEST
DTSTART:20270328T010000
END:DAYLIGHT
BEGIN:STANDARD
TZOFFSETFROM:+0200
TZOFFSETTO:+0100
TZNAME:CET
DTSTART:20271031T010000
END:STANDARD
END:VTIMEZONE
BEGIN:VEVENT
DTSTART;TZID=Europe/Amsterdam:20260329T100000
DTEND;TZID=Europe/Amsterdam:20260329T100000
DTSTAMP:20260420T091725
CREATED:20260117T164953Z
LAST-MODIFIED:20260117T164953Z
UID:30041-1774778400-1774778400@www.rk-parochiesmaastrichtwest.nl
SUMMARY:St. Annakerk\, 29-03-2026\, 10.00 uur H. Mis\, (Palmzondag)
DESCRIPTION:
URL:https://www.rk-parochiesmaastrichtwest.nl/event/st-annakerk-29-03-2026-10-00-uur-h-mis-palmzondag/
LOCATION:St. Annakerk\, Via Regia 100\, 6217 JW Maastricht\, Via Regia 100\, Maastricht\, 6217 JW
CATEGORIES:Eucharistieviering,Muziek
END:VEVENT
BEGIN:VEVENT
DTSTART;TZID=Europe/Amsterdam:20260328T173000
DTEND;TZID=Europe/Amsterdam:20260328T173000
DTSTAMP:20260420T091725
CREATED:20260117T164851Z
LAST-MODIFIED:20260117T165018Z
UID:30039-1774719000-1774719000@www.rk-parochiesmaastrichtwest.nl
SUMMARY:St. Theresia-Jozefkapel\, Eucharistieviering Palmzondag) 28-03-2026\, 17.30 uur\, m.m.v. Vroenhofzangers
DESCRIPTION:
URL:https://www.rk-parochiesmaastrichtwest.nl/event/st-theresia-jozefkapel-eucharistieviering-5e-week-vastentijd-28-03-2026-17-30-uur-m-m-v-vroenhofzangers/
LOCATION:St. Theresia_Jozefkerk\, (zij-ingang Theresiakerk aan de D’Artagnanlaan) Maastricht
CATEGORIES:Eucharistieviering,Muziek
END:VEVENT
BEGIN:VEVENT
DTSTART;TZID=Europe/Amsterdam:20260325T181500
DTEND;TZID=Europe/Amsterdam:20260325T181500
DTSTAMP:20260420T091725
CREATED:20260117T164731Z
LAST-MODIFIED:20260117T164737Z
UID:30037-1774462500-1774462500@www.rk-parochiesmaastrichtwest.nl
SUMMARY:St. Annakerk\, 25-03-2026\, 18.15 rozenkransgebed met aansluitend H. Mis
DESCRIPTION:
URL:https://www.rk-parochiesmaastrichtwest.nl/event/st-annakerk-25-03-2026-18-15-rozenkransgebed-met-aansluitend-h-mis/
LOCATION:St. Annakerk\, Via Regia 100\, 6217 JW Maastricht\, Via Regia 100\, Maastricht\, 6217 JW
CATEGORIES:Eucharistieviering,Muziek
END:VEVENT
BEGIN:VEVENT
DTSTART;TZID=Europe/Amsterdam:20260322T100000
DTEND;TZID=Europe/Amsterdam:20260322T100000
DTSTAMP:20260420T091725
CREATED:20260117T164512Z
LAST-MODIFIED:20260117T164515Z
UID:30031-1774173600-1774173600@www.rk-parochiesmaastrichtwest.nl
SUMMARY:St. Annakerk\, 22-03-2026\, 10.00 uur H. Mis\, (5e week vastentijd)
DESCRIPTION:
URL:https://www.rk-parochiesmaastrichtwest.nl/event/st-annakerk-22-03-2026-10-00-uur-h-mis-5e-week-vastentijd/
LOCATION:St. Annakerk\, Via Regia 100\, 6217 JW Maastricht\, Via Regia 100\, Maastricht\, 6217 JW
CATEGORIES:Eucharistieviering,Muziek
END:VEVENT
BEGIN:VEVENT
DTSTART;TZID=Europe/Amsterdam:20260321T173000
DTEND;TZID=Europe/Amsterdam:20260321T173000
DTSTAMP:20260420T091725
CREATED:20260117T164559Z
LAST-MODIFIED:20260117T165222Z
UID:30033-1774114200-1774114200@www.rk-parochiesmaastrichtwest.nl
SUMMARY:St. Theresia-Jozefkapel\, Eucharistieviering (5e week vastentijd) 21-03-2026\, 17.30 uur\, m.m.v. Duo Ubunto
DESCRIPTION:
URL:https://www.rk-parochiesmaastrichtwest.nl/event/st-theresia-jozefkapel-eucharistieviering-4e-week-vastentijd-21-03-2026-17-30-uur-m-m-v-duo-ubunto/
LOCATION:St. Theresia_Jozefkerk\, (zij-ingang Theresiakerk aan de D’Artagnanlaan) Maastricht
CATEGORIES:Eucharistieviering,Muziek
END:VEVENT
END:VCALENDAR