BEGIN:VCALENDAR
VERSION:2.0
PRODID:-//RK parochies st. Anna-Lambertus / St. Theresia-Jozef - ECPv6.15.20//NONSGML v1.0//EN
CALSCALE:GREGORIAN
METHOD:PUBLISH
X-WR-CALNAME:RK parochies st. Anna-Lambertus / St. Theresia-Jozef
X-ORIGINAL-URL:https://www.rk-parochiesmaastrichtwest.nl
X-WR-CALDESC:Evenementen voor RK parochies st. Anna-Lambertus / St. Theresia-Jozef
REFRESH-INTERVAL;VALUE=DURATION:PT1H
X-Robots-Tag:noindex
X-PUBLISHED-TTL:PT1H
BEGIN:VTIMEZONE
TZID:Europe/Amsterdam
BEGIN:DAYLIGHT
TZOFFSETFROM:+0100
TZOFFSETTO:+0200
TZNAME:CEST
DTSTART:20250330T010000
END:DAYLIGHT
BEGIN:STANDARD
TZOFFSETFROM:+0200
TZOFFSETTO:+0100
TZNAME:CET
DTSTART:20251026T010000
END:STANDARD
BEGIN:DAYLIGHT
TZOFFSETFROM:+0100
TZOFFSETTO:+0200
TZNAME:CEST
DTSTART:20260329T010000
END:DAYLIGHT
BEGIN:STANDARD
TZOFFSETFROM:+0200
TZOFFSETTO:+0100
TZNAME:CET
DTSTART:20261025T010000
END:STANDARD
BEGIN:DAYLIGHT
TZOFFSETFROM:+0100
TZOFFSETTO:+0200
TZNAME:CEST
DTSTART:20270328T010000
END:DAYLIGHT
BEGIN:STANDARD
TZOFFSETFROM:+0200
TZOFFSETTO:+0100
TZNAME:CET
DTSTART:20271031T010000
END:STANDARD
END:VTIMEZONE
BEGIN:VEVENT
DTSTART;TZID=Europe/Amsterdam:20260426T143000
DTEND;TZID=Europe/Amsterdam:20260426T143000
DTSTAMP:20260420T091725
CREATED:20260414T120746Z
LAST-MODIFIED:20260414T121015Z
UID:30346-1777213800-1777213800@www.rk-parochiesmaastrichtwest.nl
SUMMARY:St. Theresia-Jozefkapel (zij-ingang St. Theresiakerk)\, Vertoning documentaire: "Maestricht begroef"
DESCRIPTION:
URL:https://www.rk-parochiesmaastrichtwest.nl/event/vertoning-documentaire-maestricht-begroef/
LOCATION:St. Theresia_Jozefkerk\, (zij-ingang Theresiakerk aan de D’Artagnanlaan) Maastricht
END:VEVENT
BEGIN:VEVENT
DTSTART;TZID=Europe/Amsterdam:20260426T100000
DTEND;TZID=Europe/Amsterdam:20260426T100000
DTSTAMP:20260420T091725
CREATED:20260410T095640Z
LAST-MODIFIED:20260410T095722Z
UID:30218-1777197600-1777197600@www.rk-parochiesmaastrichtwest.nl
SUMMARY:St. Annakerk\, 10.00 uur\, H. Mis Familiezondag\, m.m.v. Life Teen
DESCRIPTION:
URL:https://www.rk-parochiesmaastrichtwest.nl/event/st-annakerk-10-00-uur-h-mis/
LOCATION:St. Annakerk\, Via Regia 100\, 6217 JW Maastricht\, Via Regia 100\, Maastricht\, 6217 JW
END:VEVENT
BEGIN:VEVENT
DTSTART;TZID=Europe/Amsterdam:20260425T173000
DTEND;TZID=Europe/Amsterdam:20260425T173000
DTSTAMP:20260420T091725
CREATED:20260410T095555Z
LAST-MODIFIED:20260410T095559Z
UID:30216-1777138200-1777138200@www.rk-parochiesmaastrichtwest.nl
SUMMARY:St. Theresia-Jozefkapel\, 17.30 uur\, H. Mis
DESCRIPTION:
URL:https://www.rk-parochiesmaastrichtwest.nl/event/st-theresia-jozefkapel-17-30-uur-h-mis-2/
LOCATION:St. Theresia_Jozefkerk\, (zij-ingang Theresiakerk aan de D’Artagnanlaan) Maastricht
END:VEVENT
BEGIN:VEVENT
DTSTART;TZID=Europe/Amsterdam:20260422T181500
DTEND;TZID=Europe/Amsterdam:20260422T181500
DTSTAMP:20260420T091725
CREATED:20260410T095448Z
LAST-MODIFIED:20260410T095452Z
UID:30214-1776881700-1776881700@www.rk-parochiesmaastrichtwest.nl
SUMMARY:St. Annakerk\, 18.15 uur\, Rozenkransgebed gevolgd door H. Mis
DESCRIPTION:
URL:https://www.rk-parochiesmaastrichtwest.nl/event/st-annakerk-18-15-uur-rozenkransgebed-gevolgd-door-h-mis/
LOCATION:St. Annakerk\, Via Regia 100\, 6217 JW Maastricht\, Via Regia 100\, Maastricht\, 6217 JW
END:VEVENT
BEGIN:VEVENT
DTSTART;TZID=Europe/Amsterdam:20260419T100000
DTEND;TZID=Europe/Amsterdam:20260419T100000
DTSTAMP:20260420T091725
CREATED:20260403T145309Z
LAST-MODIFIED:20260403T145313Z
UID:30212-1776592800-1776592800@www.rk-parochiesmaastrichtwest.nl
SUMMARY:St. Annakerk\, 10.00 uur H. Mis m.m.v. vocalgroup Alliance
DESCRIPTION:
URL:https://www.rk-parochiesmaastrichtwest.nl/event/st-annakerk-10-00-uur-h-mis-m-m-v-vocalgroup-alliance/
LOCATION:St. Annakerk\, Via Regia 100\, 6217 JW Maastricht\, Via Regia 100\, Maastricht\, 6217 JW
END:VEVENT
BEGIN:VEVENT
DTSTART;TZID=Europe/Amsterdam:20260415T181500
DTEND;TZID=Europe/Amsterdam:20260415T181500
DTSTAMP:20260420T091725
CREATED:20260403T145111Z
LAST-MODIFIED:20260403T145344Z
UID:30208-1776276900-1776276900@www.rk-parochiesmaastrichtwest.nl
SUMMARY:St. Annakerk\, 10.00 uur \, rozenkransgebed aansluitend H. Mis
DESCRIPTION:
URL:https://www.rk-parochiesmaastrichtwest.nl/event/st-annakerk-10-00-uur-rozenkransgebed-aansluitend-h-mis/
LOCATION:St. Annakerk\, Via Regia 100\, 6217 JW Maastricht\, Via Regia 100\, Maastricht\, 6217 JW
END:VEVENT
BEGIN:VEVENT
DTSTART;TZID=Europe/Amsterdam:20260412T100000
DTEND;TZID=Europe/Amsterdam:20260412T100000
DTSTAMP:20260420T091725
CREATED:20260403T144909Z
LAST-MODIFIED:20260403T144952Z
UID:30206-1775988000-1775988000@www.rk-parochiesmaastrichtwest.nl
SUMMARY:St. Annakerk\, 10.00 uur H. Mis m.m.v. Ascension
DESCRIPTION:
URL:https://www.rk-parochiesmaastrichtwest.nl/event/st-annakerk-10-00-uur-h-mis-m-m-v-ascension/
LOCATION:St. Annakerk\, Via Regia 100\, 6217 JW Maastricht\, Via Regia 100\, Maastricht\, 6217 JW
END:VEVENT
BEGIN:VEVENT
DTSTART;TZID=Europe/Amsterdam:20260408T181500
DTEND;TZID=Europe/Amsterdam:20260408T181500
DTSTAMP:20260420T091725
CREATED:20260403T144714Z
LAST-MODIFIED:20260403T145355Z
UID:30202-1775672100-1775672100@www.rk-parochiesmaastrichtwest.nl
SUMMARY:18.15 rozenkransgebed met aansluitend H. Mis
DESCRIPTION:
URL:https://www.rk-parochiesmaastrichtwest.nl/event/18-15-rozenkransgebed-met-aansluitend-h-mis/
LOCATION:St. Annakerk\, Via Regia 100\, 6217 JW Maastricht\, Via Regia 100\, Maastricht\, 6217 JW
END:VEVENT
BEGIN:VEVENT
DTSTART;TZID=Europe/Amsterdam:20260406T100000
DTEND;TZID=Europe/Amsterdam:20260406T100000
DTSTAMP:20260420T091725
CREATED:20260403T144513Z
LAST-MODIFIED:20260403T144526Z
UID:30198-1775469600-1775469600@www.rk-parochiesmaastrichtwest.nl
SUMMARY:St. Annakerk\, 2e paasdag\, H. Mis 10.00 uur
DESCRIPTION:
URL:https://www.rk-parochiesmaastrichtwest.nl/event/st-annakerk-2e-paasdag-h-mis-10-00-uur/
LOCATION:St. Annakerk\, Via Regia 100\, 6217 JW Maastricht\, Via Regia 100\, Maastricht\, 6217 JW
END:VEVENT
BEGIN:VEVENT
DTSTART;TZID=Europe/Amsterdam:20260405T113000
DTEND;TZID=Europe/Amsterdam:20260405T113000
DTSTAMP:20260420T091725
CREATED:20260403T144151Z
LAST-MODIFIED:20260403T144541Z
UID:30194-1775388600-1775388600@www.rk-parochiesmaastrichtwest.nl
SUMMARY:St. Theresia-Jozefkapel\, 1e paasdag\, H. Mis 11.30 uur\, orgel J. Devens
DESCRIPTION:
URL:https://www.rk-parochiesmaastrichtwest.nl/event/st-theresia-jozefkapel-1e-paasdag-11-30-uur/
LOCATION:St. Theresia_Jozefkerk\, (zij-ingang Theresiakerk aan de D’Artagnanlaan) Maastricht
END:VEVENT
BEGIN:VEVENT
DTSTART;TZID=Europe/Amsterdam:20260405T100000
DTEND;TZID=Europe/Amsterdam:20260405T100000
DTSTAMP:20260420T091725
CREATED:20260403T144110Z
LAST-MODIFIED:20260403T144555Z
UID:30192-1775383200-1775383200@www.rk-parochiesmaastrichtwest.nl
SUMMARY:St. Annakerk\, 1e paasdag H. Mis 10.00 uur\, m.m.v. vocalgroup Alliance
DESCRIPTION:
URL:https://www.rk-parochiesmaastrichtwest.nl/event/st-annakerk-1e-paasdag-10-00-uur-m-m-v-vocalgroup-alliance/
LOCATION:St. Annakerk\, Via Regia 100\, 6217 JW Maastricht\, Via Regia 100\, Maastricht\, 6217 JW
END:VEVENT
BEGIN:VEVENT
DTSTART;TZID=Europe/Amsterdam:20260404T210000
DTEND;TZID=Europe/Amsterdam:20260404T210000
DTSTAMP:20260420T091725
CREATED:20260403T144016Z
LAST-MODIFIED:20260403T144400Z
UID:30190-1775336400-1775336400@www.rk-parochiesmaastrichtwest.nl
SUMMARY:St. Annakerk\, Paaswake 21.00 uur
DESCRIPTION:
URL:https://www.rk-parochiesmaastrichtwest.nl/event/st-annkerk-paaswake-21-00-uur/
LOCATION:St. Annakerk\, Via Regia 100\, 6217 JW Maastricht\, Via Regia 100\, Maastricht\, 6217 JW
END:VEVENT
BEGIN:VEVENT
DTSTART;TZID=Europe/Amsterdam:20260403T170000
DTEND;TZID=Europe/Amsterdam:20260403T170000
DTSTAMP:20260420T091725
CREATED:20260403T143901Z
LAST-MODIFIED:20260403T144250Z
UID:30188-1775235600-1775235600@www.rk-parochiesmaastrichtwest.nl
SUMMARY:St. Annakerk\, Goede vrijdag\, Kinderkruisweg\, 17.00 uur
DESCRIPTION:
URL:https://www.rk-parochiesmaastrichtwest.nl/event/st-annakerk-goede-vrijdag-kinderkruisweg-17-00-uur/
LOCATION:St. Annakerk\, Via Regia 100\, 6217 JW Maastricht\, Via Regia 100\, Maastricht\, 6217 JW
END:VEVENT
BEGIN:VEVENT
DTSTART;TZID=Europe/Amsterdam:20260402T080000
DTEND;TZID=Europe/Amsterdam:20260402T170000
DTSTAMP:20260420T091725
CREATED:20260403T143650Z
LAST-MODIFIED:20260403T144258Z
UID:30186-1775116800-1775149200@www.rk-parochiesmaastrichtwest.nl
SUMMARY:St. Annakerk\, 18.00 uur\, Witte Donderdagviering  met voetwassing
DESCRIPTION:
URL:https://www.rk-parochiesmaastrichtwest.nl/event/st-annakerk-18-00-uur-witte-donderdagviering-met-voetwassing/
END:VEVENT
BEGIN:VEVENT
DTSTART;TZID=Europe/Amsterdam:20260329T100000
DTEND;TZID=Europe/Amsterdam:20260329T100000
DTSTAMP:20260420T091725
CREATED:20260117T164953Z
LAST-MODIFIED:20260117T164953Z
UID:30041-1774778400-1774778400@www.rk-parochiesmaastrichtwest.nl
SUMMARY:St. Annakerk\, 29-03-2026\, 10.00 uur H. Mis\, (Palmzondag)
DESCRIPTION:
URL:https://www.rk-parochiesmaastrichtwest.nl/event/st-annakerk-29-03-2026-10-00-uur-h-mis-palmzondag/
LOCATION:St. Annakerk\, Via Regia 100\, 6217 JW Maastricht\, Via Regia 100\, Maastricht\, 6217 JW
CATEGORIES:Eucharistieviering,Muziek
END:VEVENT
BEGIN:VEVENT
DTSTART;TZID=Europe/Amsterdam:20260328T173000
DTEND;TZID=Europe/Amsterdam:20260328T173000
DTSTAMP:20260420T091725
CREATED:20260117T164851Z
LAST-MODIFIED:20260117T165018Z
UID:30039-1774719000-1774719000@www.rk-parochiesmaastrichtwest.nl
SUMMARY:St. Theresia-Jozefkapel\, Eucharistieviering Palmzondag) 28-03-2026\, 17.30 uur\, m.m.v. Vroenhofzangers
DESCRIPTION:
URL:https://www.rk-parochiesmaastrichtwest.nl/event/st-theresia-jozefkapel-eucharistieviering-5e-week-vastentijd-28-03-2026-17-30-uur-m-m-v-vroenhofzangers/
LOCATION:St. Theresia_Jozefkerk\, (zij-ingang Theresiakerk aan de D’Artagnanlaan) Maastricht
CATEGORIES:Eucharistieviering,Muziek
END:VEVENT
BEGIN:VEVENT
DTSTART;TZID=Europe/Amsterdam:20260325T181500
DTEND;TZID=Europe/Amsterdam:20260325T181500
DTSTAMP:20260420T091725
CREATED:20260117T164731Z
LAST-MODIFIED:20260117T164737Z
UID:30037-1774462500-1774462500@www.rk-parochiesmaastrichtwest.nl
SUMMARY:St. Annakerk\, 25-03-2026\, 18.15 rozenkransgebed met aansluitend H. Mis
DESCRIPTION:
URL:https://www.rk-parochiesmaastrichtwest.nl/event/st-annakerk-25-03-2026-18-15-rozenkransgebed-met-aansluitend-h-mis/
LOCATION:St. Annakerk\, Via Regia 100\, 6217 JW Maastricht\, Via Regia 100\, Maastricht\, 6217 JW
CATEGORIES:Eucharistieviering,Muziek
END:VEVENT
BEGIN:VEVENT
DTSTART;TZID=Europe/Amsterdam:20260322T100000
DTEND;TZID=Europe/Amsterdam:20260322T100000
DTSTAMP:20260420T091725
CREATED:20260117T164512Z
LAST-MODIFIED:20260117T164515Z
UID:30031-1774173600-1774173600@www.rk-parochiesmaastrichtwest.nl
SUMMARY:St. Annakerk\, 22-03-2026\, 10.00 uur H. Mis\, (5e week vastentijd)
DESCRIPTION:
URL:https://www.rk-parochiesmaastrichtwest.nl/event/st-annakerk-22-03-2026-10-00-uur-h-mis-5e-week-vastentijd/
LOCATION:St. Annakerk\, Via Regia 100\, 6217 JW Maastricht\, Via Regia 100\, Maastricht\, 6217 JW
CATEGORIES:Eucharistieviering,Muziek
END:VEVENT
BEGIN:VEVENT
DTSTART;TZID=Europe/Amsterdam:20260321T173000
DTEND;TZID=Europe/Amsterdam:20260321T173000
DTSTAMP:20260420T091725
CREATED:20260117T164559Z
LAST-MODIFIED:20260117T165222Z
UID:30033-1774114200-1774114200@www.rk-parochiesmaastrichtwest.nl
SUMMARY:St. Theresia-Jozefkapel\, Eucharistieviering (5e week vastentijd) 21-03-2026\, 17.30 uur\, m.m.v. Duo Ubunto
DESCRIPTION:
URL:https://www.rk-parochiesmaastrichtwest.nl/event/st-theresia-jozefkapel-eucharistieviering-4e-week-vastentijd-21-03-2026-17-30-uur-m-m-v-duo-ubunto/
LOCATION:St. Theresia_Jozefkerk\, (zij-ingang Theresiakerk aan de D’Artagnanlaan) Maastricht
CATEGORIES:Eucharistieviering,Muziek
END:VEVENT
END:VCALENDAR