BEGIN:VCALENDAR
VERSION:2.0
PRODID:-//RK parochies st. Anna-Lambertus / St. Theresia-Jozef - ECPv6.15.20//NONSGML v1.0//EN
CALSCALE:GREGORIAN
METHOD:PUBLISH
X-ORIGINAL-URL:https://www.rk-parochiesmaastrichtwest.nl
X-WR-CALDESC:Evenementen voor RK parochies st. Anna-Lambertus / St. Theresia-Jozef
REFRESH-INTERVAL;VALUE=DURATION:PT1H
X-Robots-Tag:noindex
X-PUBLISHED-TTL:PT1H
BEGIN:VTIMEZONE
TZID:Europe/Amsterdam
BEGIN:DAYLIGHT
TZOFFSETFROM:+0100
TZOFFSETTO:+0200
TZNAME:CEST
DTSTART:20250330T010000
END:DAYLIGHT
BEGIN:STANDARD
TZOFFSETFROM:+0200
TZOFFSETTO:+0100
TZNAME:CET
DTSTART:20251026T010000
END:STANDARD
BEGIN:DAYLIGHT
TZOFFSETFROM:+0100
TZOFFSETTO:+0200
TZNAME:CEST
DTSTART:20260329T010000
END:DAYLIGHT
BEGIN:STANDARD
TZOFFSETFROM:+0200
TZOFFSETTO:+0100
TZNAME:CET
DTSTART:20261025T010000
END:STANDARD
BEGIN:DAYLIGHT
TZOFFSETFROM:+0100
TZOFFSETTO:+0200
TZNAME:CEST
DTSTART:20270328T010000
END:DAYLIGHT
BEGIN:STANDARD
TZOFFSETFROM:+0200
TZOFFSETTO:+0100
TZNAME:CET
DTSTART:20271031T010000
END:STANDARD
END:VTIMEZONE
BEGIN:VEVENT
DTSTART;TZID=Europe/Amsterdam:20260429T181500
DTEND;TZID=Europe/Amsterdam:20260429T181500
DTSTAMP:20260420T091830
CREATED:20260410T100003Z
LAST-MODIFIED:20260410T100007Z
UID:30222-1777486500-1777486500@www.rk-parochiesmaastrichtwest.nl
SUMMARY:St. Annakerk\, 18.15 uur\, Rozenkransgebed gevolgd door H. Mis
DESCRIPTION:
URL:https://www.rk-parochiesmaastrichtwest.nl/event/st-annakerk-18-15-uur-rozenkransgebed-gevolgd-door-h-mis-2/
LOCATION:St. Annakerk\, Via Regia 100\, 6217 JW Maastricht\, Via Regia 100\, Maastricht\, 6217 JW
END:VEVENT
BEGIN:VEVENT
DTSTART;TZID=Europe/Amsterdam:20260502T173000
DTEND;TZID=Europe/Amsterdam:20260502T173000
DTSTAMP:20260420T091830
CREATED:20260410T100117Z
LAST-MODIFIED:20260410T100121Z
UID:30224-1777743000-1777743000@www.rk-parochiesmaastrichtwest.nl
SUMMARY:St. Theresia-Jozefkapel\, 17.30 uur jaardienst Pastoor A. v.d. Berg\, H. Mis m.m.v. Aajd Koper
DESCRIPTION:
URL:https://www.rk-parochiesmaastrichtwest.nl/event/st-theresia-jozefkapel-17-30-uur-jaardienst-pastoor-a-v-d-berg-h-mis-m-m-v-aajd-koper/
LOCATION:St. Theresia_Jozefkerk\, (zij-ingang Theresiakerk aan de D’Artagnanlaan) Maastricht
END:VEVENT
BEGIN:VEVENT
DTSTART;TZID=Europe/Amsterdam:20260503T100000
DTEND;TZID=Europe/Amsterdam:20260503T100000
DTSTAMP:20260420T091830
CREATED:20260410T101219Z
LAST-MODIFIED:20260410T101223Z
UID:30236-1777802400-1777802400@www.rk-parochiesmaastrichtwest.nl
SUMMARY:St. Annakerk\, 10.00 uur\, H. Mis\, m.m.v. Enciekoor (jubileumviering)
DESCRIPTION:
URL:https://www.rk-parochiesmaastrichtwest.nl/event/st-annakerk-10-00-uur-h-mis-m-m-v-enciekoor-jubileumviering/
LOCATION:St. Annakerk\, Via Regia 100\, 6217 JW Maastricht\, Via Regia 100\, Maastricht\, 6217 JW
END:VEVENT
BEGIN:VEVENT
DTSTART;TZID=Europe/Amsterdam:20260509T000000
DTEND;TZID=Europe/Amsterdam:20260509T000000
DTSTAMP:20260420T091830
CREATED:20260410T101032Z
LAST-MODIFIED:20260410T101035Z
UID:30234-1778284800-1778284800@www.rk-parochiesmaastrichtwest.nl
SUMMARY:St. Theresia-Jozefkapel\, GEEN H.MIS
DESCRIPTION:
URL:https://www.rk-parochiesmaastrichtwest.nl/event/st-theresia-jozefkapel-geen-h-mis/
END:VEVENT
BEGIN:VEVENT
DTSTART;TZID=Europe/Amsterdam:20260509T190000
DTEND;TZID=Europe/Amsterdam:20260509T190000
DTSTAMP:20260420T091830
CREATED:20260410T100248Z
LAST-MODIFIED:20260410T100656Z
UID:30227-1778353200-1778353200@www.rk-parochiesmaastrichtwest.nl
SUMMARY:St. Annakerk\, 19.00 uur\, H. Mis
DESCRIPTION:
URL:https://www.rk-parochiesmaastrichtwest.nl/event/st-annakerk-19-00-uur-h-mis/
LOCATION:St. Annakerk\, Via Regia 100\, 6217 JW Maastricht\, Via Regia 100\, Maastricht\, 6217 JW
END:VEVENT
BEGIN:VEVENT
DTSTART;TZID=Europe/Amsterdam:20260510T100000
DTEND;TZID=Europe/Amsterdam:20260510T100000
DTSTAMP:20260420T091830
CREATED:20260410T100508Z
LAST-MODIFIED:20260410T100629Z
UID:30231-1778407200-1778407200@www.rk-parochiesmaastrichtwest.nl
SUMMARY:St. Theresiakerk\, 10.00 uur\, Aanvang Bronprocessie Servaasbron (verzamelen op plein voor de St. Theresiakerk om 10.00 uur)
DESCRIPTION:
URL:https://www.rk-parochiesmaastrichtwest.nl/event/st-theresiakerk-10-00-uur-aanvang-bronprocessie-servaasbron-verzamelen-op-plein-voor-de-st-theresiakerk-om-10-00-uur/
LOCATION:St. Theresiakerk\, St. Theresiaplein 8\, Maastricht\, St. Theresiaplein 8\, Maastricht
END:VEVENT
BEGIN:VEVENT
DTSTART;TZID=Europe/Amsterdam:20260513T000000
DTEND;TZID=Europe/Amsterdam:20260513T000000
DTSTAMP:20260420T091830
CREATED:20260410T101500Z
LAST-MODIFIED:20260410T101504Z
UID:30238-1778630400-1778630400@www.rk-parochiesmaastrichtwest.nl
SUMMARY:St. Annakerk\, GEEN ROZENKRANSGEBED EN H.MIS
DESCRIPTION:
URL:https://www.rk-parochiesmaastrichtwest.nl/event/st-annakerk-geen-rozenkransgebed-en-h-mis/
END:VEVENT
BEGIN:VEVENT
DTSTART;TZID=Europe/Amsterdam:20260514T100000
DTEND;TZID=Europe/Amsterdam:20260514T100000
DTSTAMP:20260420T091830
CREATED:20260410T101614Z
LAST-MODIFIED:20260410T101741Z
UID:30241-1778752800-1778752800@www.rk-parochiesmaastrichtwest.nl
SUMMARY:St. Annakerk\, H. Mis\, HEMELVAART
DESCRIPTION:
URL:https://www.rk-parochiesmaastrichtwest.nl/event/st-annakerk-donderdag-14-5-hemelvaart-10-00-uur/
LOCATION:St. Annakerk\, Via Regia 100\, 6217 JW Maastricht\, Via Regia 100\, Maastricht\, 6217 JW
END:VEVENT
BEGIN:VEVENT
DTSTART;TZID=Europe/Amsterdam:20260517T100000
DTEND;TZID=Europe/Amsterdam:20260517T100000
DTSTAMP:20260420T091830
CREATED:20260410T101926Z
LAST-MODIFIED:20260410T101930Z
UID:30247-1779012000-1779012000@www.rk-parochiesmaastrichtwest.nl
SUMMARY:St. Annakerk\, H. Mis
DESCRIPTION:
URL:https://www.rk-parochiesmaastrichtwest.nl/event/st-annakerk-h-mis/
LOCATION:St. Annakerk\, Via Regia 100\, 6217 JW Maastricht\, Via Regia 100\, Maastricht\, 6217 JW
END:VEVENT
BEGIN:VEVENT
DTSTART;TZID=Europe/Amsterdam:20260523T173000
DTEND;TZID=Europe/Amsterdam:20260523T173000
DTSTAMP:20260420T091830
CREATED:20260410T102130Z
LAST-MODIFIED:20260410T102416Z
UID:30251-1779557400-1779557400@www.rk-parochiesmaastrichtwest.nl
SUMMARY:St. Theresia-Jozefkapel\, H. Mis PINKSTEREN\, m.m.v. Vroenhofzangers
DESCRIPTION:
URL:https://www.rk-parochiesmaastrichtwest.nl/event/st-theresia-jozefkapel-h-mis-m-m-v-vroenhofzangers/
LOCATION:St. Theresia_Jozefkerk\, (zij-ingang Theresiakerk aan de D’Artagnanlaan) Maastricht
END:VEVENT
BEGIN:VEVENT
DTSTART;TZID=Europe/Amsterdam:20260524T100000
DTEND;TZID=Europe/Amsterdam:20260524T100000
DTSTAMP:20260420T091830
CREATED:20260410T102234Z
LAST-MODIFIED:20260410T102714Z
UID:30253-1779616800-1779616800@www.rk-parochiesmaastrichtwest.nl
SUMMARY:St. Annakerk\, H. Mis (1e Pinsterdag)\, m.m.v. Vocalgroup Alliance
DESCRIPTION:
URL:https://www.rk-parochiesmaastrichtwest.nl/event/st-annakerk-h-mis-m-m-v-vocalgroup-alliance/
LOCATION:St. Annakerk\, Via Regia 100\, 6217 JW Maastricht\, Via Regia 100\, Maastricht\, 6217 JW
END:VEVENT
BEGIN:VEVENT
DTSTART;TZID=Europe/Amsterdam:20260525T100000
DTEND;TZID=Europe/Amsterdam:20260525T100000
DTSTAMP:20260420T091830
CREATED:20260410T102625Z
LAST-MODIFIED:20260410T102629Z
UID:30256-1779703200-1779703200@www.rk-parochiesmaastrichtwest.nl
SUMMARY:St. Annakerk\, H. Mis (2e Pinksterdag)
DESCRIPTION:
URL:https://www.rk-parochiesmaastrichtwest.nl/event/st-annakerk-h-mis-2e-pinksterdag/
LOCATION:St. Annakerk\, Via Regia 100\, 6217 JW Maastricht\, Via Regia 100\, Maastricht\, 6217 JW
END:VEVENT
BEGIN:VEVENT
DTSTART;TZID=Europe/Amsterdam:20260527T181500
DTEND;TZID=Europe/Amsterdam:20260527T181500
DTSTAMP:20260420T091830
CREATED:20260410T102839Z
LAST-MODIFIED:20260410T102842Z
UID:30259-1779905700-1779905700@www.rk-parochiesmaastrichtwest.nl
SUMMARY:St. Annakerk\, Rozenkransgebed gevolgd door H. Mis
DESCRIPTION:
URL:https://www.rk-parochiesmaastrichtwest.nl/event/st-annakerk-rozenkransgebed-gevolgd-door-h-mis/
LOCATION:St. Annakerk\, Via Regia 100\, 6217 JW Maastricht\, Via Regia 100\, Maastricht\, 6217 JW
END:VEVENT
BEGIN:VEVENT
DTSTART;TZID=Europe/Amsterdam:20260530T173000
DTEND;TZID=Europe/Amsterdam:20260530T173000
DTSTAMP:20260420T091830
CREATED:20260410T102927Z
LAST-MODIFIED:20260410T102931Z
UID:30261-1780162200-1780162200@www.rk-parochiesmaastrichtwest.nl
SUMMARY:St. Theresia-Jozefkapel\, H. Mis
DESCRIPTION:
URL:https://www.rk-parochiesmaastrichtwest.nl/event/st-theresia-jozefkapel-h-mis/
LOCATION:St. Theresia_Jozefkerk\, (zij-ingang Theresiakerk aan de D’Artagnanlaan) Maastricht
END:VEVENT
BEGIN:VEVENT
DTSTART;TZID=Europe/Amsterdam:20260531T100000
DTEND;TZID=Europe/Amsterdam:20260531T100000
DTSTAMP:20260420T091830
CREATED:20260410T103033Z
LAST-MODIFIED:20260410T103036Z
UID:30263-1780221600-1780221600@www.rk-parochiesmaastrichtwest.nl
SUMMARY:St. Annakerk\, H. Mis
DESCRIPTION:
URL:https://www.rk-parochiesmaastrichtwest.nl/event/st-annakerk-h-mis-2/
LOCATION:St. Annakerk\, Via Regia 100\, 6217 JW Maastricht\, Via Regia 100\, Maastricht\, 6217 JW
END:VEVENT
BEGIN:VEVENT
DTSTART;TZID=Europe/Amsterdam:20260603T181500
DTEND;TZID=Europe/Amsterdam:20260603T181500
DTSTAMP:20260420T091830
CREATED:20260410T103148Z
LAST-MODIFIED:20260410T103152Z
UID:30265-1780510500-1780510500@www.rk-parochiesmaastrichtwest.nl
SUMMARY:St. Annakerk\, Rozenkransgebed gevolgd door H. Mis
DESCRIPTION:
URL:https://www.rk-parochiesmaastrichtwest.nl/event/st-annakerk-rozenkransgebed-gevolgd-door-h-mis-2/
LOCATION:St. Annakerk\, Via Regia 100\, 6217 JW Maastricht\, Via Regia 100\, Maastricht\, 6217 JW
END:VEVENT
BEGIN:VEVENT
DTSTART;TZID=Europe/Amsterdam:20260606T173000
DTEND;TZID=Europe/Amsterdam:20260606T173000
DTSTAMP:20260420T091830
CREATED:20260410T103225Z
LAST-MODIFIED:20260410T103228Z
UID:30267-1780767000-1780767000@www.rk-parochiesmaastrichtwest.nl
SUMMARY:St. Theresia-Jozefkapel\, H. Mis
DESCRIPTION:
URL:https://www.rk-parochiesmaastrichtwest.nl/event/st-theresia-jozefkapel-h-mis-2/
LOCATION:St. Theresia_Jozefkerk\, (zij-ingang Theresiakerk aan de D’Artagnanlaan) Maastricht
END:VEVENT
BEGIN:VEVENT
DTSTART;TZID=Europe/Amsterdam:20260607T100000
DTEND;TZID=Europe/Amsterdam:20260607T100000
DTSTAMP:20260420T091830
CREATED:20260410T103326Z
LAST-MODIFIED:20260410T103330Z
UID:30269-1780826400-1780826400@www.rk-parochiesmaastrichtwest.nl
SUMMARY:St. Annakerk\, H. Mis
DESCRIPTION:
URL:https://www.rk-parochiesmaastrichtwest.nl/event/st-annakerk-h-mis-3/
LOCATION:St. Annakerk\, Via Regia 100\, 6217 JW Maastricht\, Via Regia 100\, Maastricht\, 6217 JW
END:VEVENT
BEGIN:VEVENT
DTSTART;TZID=Europe/Amsterdam:20260610T181500
DTEND;TZID=Europe/Amsterdam:20260610T181500
DTSTAMP:20260420T091830
CREATED:20260410T103402Z
LAST-MODIFIED:20260410T103406Z
UID:30271-1781115300-1781115300@www.rk-parochiesmaastrichtwest.nl
SUMMARY:St. Annakerk\, Rozenkransgebed gevolgd door H. Mis
DESCRIPTION:
URL:https://www.rk-parochiesmaastrichtwest.nl/event/st-annakerk-rozenkransgebed-gevolgd-door-h-mis-3/
LOCATION:St. Annakerk\, Via Regia 100\, 6217 JW Maastricht\, Via Regia 100\, Maastricht\, 6217 JW
END:VEVENT
BEGIN:VEVENT
DTSTART;TZID=Europe/Amsterdam:20260613T173000
DTEND;TZID=Europe/Amsterdam:20260613T173000
DTSTAMP:20260420T091830
CREATED:20260410T103452Z
LAST-MODIFIED:20260410T103457Z
UID:30273-1781371800-1781371800@www.rk-parochiesmaastrichtwest.nl
SUMMARY:St. Theresia-Jozefkapel\, H. Mis m.m.v. Aajd Koper
DESCRIPTION:
URL:https://www.rk-parochiesmaastrichtwest.nl/event/st-theresia-jozefkapel-h-mis-m-m-v-aajd-koper/
LOCATION:St. Theresia_Jozefkerk\, (zij-ingang Theresiakerk aan de D’Artagnanlaan) Maastricht
END:VEVENT
BEGIN:VEVENT
DTSTART;TZID=Europe/Amsterdam:20260614T100000
DTEND;TZID=Europe/Amsterdam:20260614T100000
DTSTAMP:20260420T091830
CREATED:20260410T104848Z
LAST-MODIFIED:20260410T105017Z
UID:30296-1781431200-1781431200@www.rk-parochiesmaastrichtwest.nl
SUMMARY:St. Annakerk\, H. Mis m.m.v. zangkoor Ascension
DESCRIPTION:
URL:https://www.rk-parochiesmaastrichtwest.nl/event/st-annakerk-h-mis-m-m-v-zangkoor-ascension-2/
LOCATION:St. Annakerk\, Via Regia 100\, 6217 JW Maastricht\, Via Regia 100\, Maastricht\, 6217 JW
END:VEVENT
BEGIN:VEVENT
DTSTART;TZID=Europe/Amsterdam:20260617T181500
DTEND;TZID=Europe/Amsterdam:20260617T181500
DTSTAMP:20260420T091830
CREATED:20260410T103749Z
LAST-MODIFIED:20260410T103753Z
UID:30277-1781720100-1781720100@www.rk-parochiesmaastrichtwest.nl
SUMMARY:St. Annakerk\, Rozenkransgebed gevolgd door H. Mis
DESCRIPTION:
URL:https://www.rk-parochiesmaastrichtwest.nl/event/st-annakerk-rozenkransgebed-gevolgd-door-h-mis-4/
LOCATION:St. Annakerk\, Via Regia 100\, 6217 JW Maastricht\, Via Regia 100\, Maastricht\, 6217 JW
END:VEVENT
BEGIN:VEVENT
DTSTART;TZID=Europe/Amsterdam:20260620T080000
DTEND;TZID=Europe/Amsterdam:20260620T170000
DTSTAMP:20260420T091830
CREATED:20260410T103839Z
LAST-MODIFIED:20260410T103949Z
UID:30279-1781942400-1781974800@www.rk-parochiesmaastrichtwest.nl
SUMMARY:St.Theresia-Jozefkapel\, H. Mis\, toediening H. Vormsel
DESCRIPTION:
URL:https://www.rk-parochiesmaastrichtwest.nl/event/st-theresia-jozefkapel-h-mis-3/
LOCATION:St. Theresia_Jozefkerk\, (zij-ingang Theresiakerk aan de D’Artagnanlaan) Maastricht
END:VEVENT
BEGIN:VEVENT
DTSTART;TZID=Europe/Amsterdam:20260621T100000
DTEND;TZID=Europe/Amsterdam:20260621T100000
DTSTAMP:20260420T091830
CREATED:20260410T104933Z
LAST-MODIFIED:20260410T104936Z
UID:30298-1782036000-1782036000@www.rk-parochiesmaastrichtwest.nl
SUMMARY:St. Annakerk\, H. Mis\, m.m.v. VocalGroup Alliance
DESCRIPTION:
URL:https://www.rk-parochiesmaastrichtwest.nl/event/st-annakerk-h-mis-m-m-v-vocalgroup-alliance-3/
LOCATION:St. Annakerk\, Via Regia 100\, 6217 JW Maastricht\, Via Regia 100\, Maastricht\, 6217 JW
END:VEVENT
BEGIN:VEVENT
DTSTART;TZID=Europe/Amsterdam:20260624T181500
DTEND;TZID=Europe/Amsterdam:20260624T181500
DTSTAMP:20260420T091830
CREATED:20260410T104108Z
LAST-MODIFIED:20260410T104113Z
UID:30284-1782324900-1782324900@www.rk-parochiesmaastrichtwest.nl
SUMMARY:St. Annakerk\, Rozenkransgebed gevolgd door H. Mis
DESCRIPTION:
URL:https://www.rk-parochiesmaastrichtwest.nl/event/st-annakerk-rozenkransgebed-gevolgd-door-h-mis-5/
LOCATION:St. Annakerk\, Via Regia 100\, 6217 JW Maastricht\, Via Regia 100\, Maastricht\, 6217 JW
END:VEVENT
BEGIN:VEVENT
DTSTART;TZID=Europe/Amsterdam:20260627T173000
DTEND;TZID=Europe/Amsterdam:20260627T173000
DTSTAMP:20260420T091830
CREATED:20260410T104159Z
LAST-MODIFIED:20260410T104202Z
UID:30286-1782581400-1782581400@www.rk-parochiesmaastrichtwest.nl
SUMMARY:St. Theresia-Jozefkapel\, H. Mis
DESCRIPTION:
URL:https://www.rk-parochiesmaastrichtwest.nl/event/st-theresia-jozefkapel-h-mis-4/
LOCATION:St. Theresia_Jozefkerk\, (zij-ingang Theresiakerk aan de D’Artagnanlaan) Maastricht
END:VEVENT
BEGIN:VEVENT
DTSTART;TZID=Europe/Amsterdam:20260628T100000
DTEND;TZID=Europe/Amsterdam:20260628T100000
DTSTAMP:20260420T091830
CREATED:20260410T104307Z
LAST-MODIFIED:20260410T104311Z
UID:30288-1782640800-1782640800@www.rk-parochiesmaastrichtwest.nl
SUMMARY:St. Annakerk\, H. Mis Familiezondag\, m.m.v. LifeTeen en dankviering voor de communicanten
DESCRIPTION:
URL:https://www.rk-parochiesmaastrichtwest.nl/event/st-annakerk-h-mis-familiezondag-m-m-v-lifeteen-en-dankviering-voor-de-communicanten/
LOCATION:St. Annakerk\, Via Regia 100\, 6217 JW Maastricht\, Via Regia 100\, Maastricht\, 6217 JW
END:VEVENT
BEGIN:VEVENT
DTSTART;TZID=Europe/Amsterdam:20260701T181500
DTEND;TZID=Europe/Amsterdam:20260701T181500
DTSTAMP:20260420T091830
CREATED:20260410T104353Z
LAST-MODIFIED:20260410T104357Z
UID:30290-1782929700-1782929700@www.rk-parochiesmaastrichtwest.nl
SUMMARY:St. Annakerk\, Rozenkransgebed gevolgd door H. Mis
DESCRIPTION:
URL:https://www.rk-parochiesmaastrichtwest.nl/event/st-annakerk-rozenkransgebed-gevolgd-door-h-mis-6/
LOCATION:St. Annakerk\, Via Regia 100\, 6217 JW Maastricht\, Via Regia 100\, Maastricht\, 6217 JW
END:VEVENT
BEGIN:VEVENT
DTSTART;TZID=Europe/Amsterdam:20260704T173000
DTEND;TZID=Europe/Amsterdam:20260704T173000
DTSTAMP:20260420T091830
CREATED:20260410T104439Z
LAST-MODIFIED:20260410T104443Z
UID:30292-1783186200-1783186200@www.rk-parochiesmaastrichtwest.nl
SUMMARY:St. Theresia-Jozefkapel\, H. Mis m.m.v. Vroenhofzangers
DESCRIPTION:
URL:https://www.rk-parochiesmaastrichtwest.nl/event/st-theresia-jozefkapel-h-mis-m-m-v-vroenhofzangers-2/
LOCATION:St. Theresia_Jozefkerk\, (zij-ingang Theresiakerk aan de D’Artagnanlaan) Maastricht
END:VEVENT
BEGIN:VEVENT
DTSTART;TZID=Europe/Amsterdam:20260705T100000
DTEND;TZID=Europe/Amsterdam:20260705T100000
DTSTAMP:20260420T091830
CREATED:20260410T104546Z
LAST-MODIFIED:20260410T104657Z
UID:30294-1783245600-1783245600@www.rk-parochiesmaastrichtwest.nl
SUMMARY:St. Annakerk\, H. Mis
DESCRIPTION:
URL:https://www.rk-parochiesmaastrichtwest.nl/event/st-annakerk-h-mis-4/
LOCATION:St. Annakerk\, Via Regia 100\, 6217 JW Maastricht\, Via Regia 100\, Maastricht\, 6217 JW
END:VEVENT
END:VCALENDAR