BEGIN:VCALENDAR
VERSION:2.0
PRODID:-//RK parochies st. Anna-Lambertus / St. Theresia-Jozef - ECPv6.15.20//NONSGML v1.0//EN
CALSCALE:GREGORIAN
METHOD:PUBLISH
X-ORIGINAL-URL:https://www.rk-parochiesmaastrichtwest.nl
X-WR-CALDESC:Evenementen voor RK parochies st. Anna-Lambertus / St. Theresia-Jozef
REFRESH-INTERVAL;VALUE=DURATION:PT1H
X-Robots-Tag:noindex
X-PUBLISHED-TTL:PT1H
BEGIN:VTIMEZONE
TZID:Europe/Amsterdam
BEGIN:DAYLIGHT
TZOFFSETFROM:+0100
TZOFFSETTO:+0200
TZNAME:CEST
DTSTART:20250330T010000
END:DAYLIGHT
BEGIN:STANDARD
TZOFFSETFROM:+0200
TZOFFSETTO:+0100
TZNAME:CET
DTSTART:20251026T010000
END:STANDARD
BEGIN:DAYLIGHT
TZOFFSETFROM:+0100
TZOFFSETTO:+0200
TZNAME:CEST
DTSTART:20260329T010000
END:DAYLIGHT
BEGIN:STANDARD
TZOFFSETFROM:+0200
TZOFFSETTO:+0100
TZNAME:CET
DTSTART:20261025T010000
END:STANDARD
BEGIN:DAYLIGHT
TZOFFSETFROM:+0100
TZOFFSETTO:+0200
TZNAME:CEST
DTSTART:20270328T010000
END:DAYLIGHT
BEGIN:STANDARD
TZOFFSETFROM:+0200
TZOFFSETTO:+0100
TZNAME:CET
DTSTART:20271031T010000
END:STANDARD
END:VTIMEZONE
BEGIN:VEVENT
DTSTART;TZID=Europe/Amsterdam:20260711T173000
DTEND;TZID=Europe/Amsterdam:20260711T173000
DTSTAMP:20260423T005131
CREATED:20260410T115242Z
LAST-MODIFIED:20260410T115246Z
UID:30302-1783791000-1783791000@www.rk-parochiesmaastrichtwest.nl
SUMMARY:St. Theresia-Jozefkapel\, H. Mis
DESCRIPTION:
URL:https://www.rk-parochiesmaastrichtwest.nl/event/st-theresia-jozefkapel-h-mis-5/
LOCATION:St. Theresia_Jozefkerk\, (zij-ingang Theresiakerk aan de D’Artagnanlaan) Maastricht
END:VEVENT
BEGIN:VEVENT
DTSTART;TZID=Europe/Amsterdam:20260712T100000
DTEND;TZID=Europe/Amsterdam:20260712T100000
DTSTAMP:20260423T005131
CREATED:20260410T115338Z
LAST-MODIFIED:20260410T115342Z
UID:30304-1783850400-1783850400@www.rk-parochiesmaastrichtwest.nl
SUMMARY:St. Annakerk\, H. Mis\, m.m.v zangkoor  Ascension
DESCRIPTION:
URL:https://www.rk-parochiesmaastrichtwest.nl/event/st-annakerk-h-mis-m-m-v-zangkoor-ascension-3/
LOCATION:St. Annakerk\, Via Regia 100\, 6217 JW Maastricht\, Via Regia 100\, Maastricht\, 6217 JW
END:VEVENT
BEGIN:VEVENT
DTSTART;TZID=Europe/Amsterdam:20260718T173000
DTEND;TZID=Europe/Amsterdam:20260718T173000
DTSTAMP:20260423T005131
CREATED:20260414T120417Z
LAST-MODIFIED:20260414T121212Z
UID:30338-1784395800-1784395800@www.rk-parochiesmaastrichtwest.nl
SUMMARY:St. Theresia-Jozefkapel\, H. Mis
DESCRIPTION:
URL:https://www.rk-parochiesmaastrichtwest.nl/event/st-theresia-jozefkapel-h-mis-6/
LOCATION:St. Theresia_Jozefkerk\, (zij-ingang Theresiakerk aan de D’Artagnanlaan) Maastricht
END:VEVENT
BEGIN:VEVENT
DTSTART;TZID=Europe/Amsterdam:20260719T100000
DTEND;TZID=Europe/Amsterdam:20260719T100000
DTSTAMP:20260423T005131
CREATED:20260414T120516Z
LAST-MODIFIED:20260414T121112Z
UID:30340-1784455200-1784455200@www.rk-parochiesmaastrichtwest.nl
SUMMARY:St. Annakerk\, H. Mis Familiezondag
DESCRIPTION:
URL:https://www.rk-parochiesmaastrichtwest.nl/event/st-annakerk-h-mis-familiezondag/
LOCATION:St. Annakerk\, Via Regia 100\, 6217 JW Maastricht\, Via Regia 100\, Maastricht\, 6217 JW
END:VEVENT
BEGIN:VEVENT
DTSTART;TZID=Europe/Amsterdam:20260725T173000
DTEND;TZID=Europe/Amsterdam:20260725T173000
DTSTAMP:20260423T005131
CREATED:20260414T120555Z
LAST-MODIFIED:20260414T121128Z
UID:30342-1785000600-1785000600@www.rk-parochiesmaastrichtwest.nl
SUMMARY:St. Theresia-Jozefkapel\, H. Mis
DESCRIPTION:
URL:https://www.rk-parochiesmaastrichtwest.nl/event/st-theresia-jozefkapel-h-mis-7/
LOCATION:St. Theresia_Jozefkerk\, (zij-ingang Theresiakerk aan de D’Artagnanlaan) Maastricht
END:VEVENT
BEGIN:VEVENT
DTSTART;TZID=Europe/Amsterdam:20260726T100000
DTEND;TZID=Europe/Amsterdam:20260726T100000
DTSTAMP:20260423T005131
CREATED:20260414T120626Z
LAST-MODIFIED:20260414T121145Z
UID:30344-1785060000-1785060000@www.rk-parochiesmaastrichtwest.nl
SUMMARY:St. Annakerk\, H. Mis
DESCRIPTION:
URL:https://www.rk-parochiesmaastrichtwest.nl/event/st-annakerk-h-mis-5/
LOCATION:St. Annakerk\, Via Regia 100\, 6217 JW Maastricht\, Via Regia 100\, Maastricht\, 6217 JW
END:VEVENT
BEGIN:VEVENT
DTSTART;TZID=Europe/Amsterdam:20260801T173000
DTEND;TZID=Europe/Amsterdam:20260801T173000
DTSTAMP:20260423T005131
CREATED:20260414T121326Z
LAST-MODIFIED:20260414T121330Z
UID:30350-1785605400-1785605400@www.rk-parochiesmaastrichtwest.nl
SUMMARY:St. Theresia-Jozefkapel\, H. Mis
DESCRIPTION:
URL:https://www.rk-parochiesmaastrichtwest.nl/event/st-theresia-jozefkapel-h-mis-8/
LOCATION:St. Theresia_Jozefkerk\, (zij-ingang Theresiakerk aan de D’Artagnanlaan) Maastricht
END:VEVENT
BEGIN:VEVENT
DTSTART;TZID=Europe/Amsterdam:20260802T100000
DTEND;TZID=Europe/Amsterdam:20260802T100000
DTSTAMP:20260423T005131
CREATED:20260414T121402Z
LAST-MODIFIED:20260414T121408Z
UID:30352-1785664800-1785664800@www.rk-parochiesmaastrichtwest.nl
SUMMARY:St. Annakerk\, H. Mis
DESCRIPTION:
URL:https://www.rk-parochiesmaastrichtwest.nl/event/st-annakerk-h-mis-6/
LOCATION:St. Annakerk\, Via Regia 100\, 6217 JW Maastricht\, Via Regia 100\, Maastricht\, 6217 JW
END:VEVENT
BEGIN:VEVENT
DTSTART;TZID=Europe/Amsterdam:20260808T173000
DTEND;TZID=Europe/Amsterdam:20260808T173000
DTSTAMP:20260423T005131
CREATED:20260410T115512Z
LAST-MODIFIED:20260410T115516Z
UID:30307-1786210200-1786210200@www.rk-parochiesmaastrichtwest.nl
SUMMARY:St. Theresia-Jozefkapel\, H. Mis\, m.m.v. Aajd Koper
DESCRIPTION:
URL:https://www.rk-parochiesmaastrichtwest.nl/event/st-theresia-jozefkapel-h-mis-m-m-v-aajd-koper-2/
LOCATION:St. Theresia_Jozefkerk\, (zij-ingang Theresiakerk aan de D’Artagnanlaan) Maastricht
END:VEVENT
BEGIN:VEVENT
DTSTART;TZID=Europe/Amsterdam:20260809T100000
DTEND;TZID=Europe/Amsterdam:20260809T100000
DTSTAMP:20260423T005131
CREATED:20260414T121438Z
LAST-MODIFIED:20260414T121442Z
UID:30354-1786269600-1786269600@www.rk-parochiesmaastrichtwest.nl
SUMMARY:St. Annakerk\, H. Mis
DESCRIPTION:
URL:https://www.rk-parochiesmaastrichtwest.nl/event/st-annakerk-h-mis-7/
LOCATION:St. Annakerk\, Via Regia 100\, 6217 JW Maastricht\, Via Regia 100\, Maastricht\, 6217 JW
END:VEVENT
BEGIN:VEVENT
DTSTART;TZID=Europe/Amsterdam:20260815T173000
DTEND;TZID=Europe/Amsterdam:20260815T173000
DTSTAMP:20260423T005131
CREATED:20260414T121530Z
LAST-MODIFIED:20260414T121605Z
UID:30356-1786815000-1786815000@www.rk-parochiesmaastrichtwest.nl
SUMMARY:St. Theresia-Jozefkapel\, H. Mis
DESCRIPTION:
URL:https://www.rk-parochiesmaastrichtwest.nl/event/st-theresia-jozefkapel-h-mis-9/
LOCATION:St. Theresia_Jozefkerk\, (zij-ingang Theresiakerk aan de D’Artagnanlaan) Maastricht
END:VEVENT
BEGIN:VEVENT
DTSTART;TZID=Europe/Amsterdam:20260816T100000
DTEND;TZID=Europe/Amsterdam:20260816T100000
DTSTAMP:20260423T005131
CREATED:20260414T121630Z
LAST-MODIFIED:20260414T121634Z
UID:30358-1786874400-1786874400@www.rk-parochiesmaastrichtwest.nl
SUMMARY:St. Annakerk\, H. Mis
DESCRIPTION:
URL:https://www.rk-parochiesmaastrichtwest.nl/event/st-annakerk-h-mis-8/
LOCATION:St. Annakerk\, Via Regia 100\, 6217 JW Maastricht\, Via Regia 100\, Maastricht\, 6217 JW
END:VEVENT
BEGIN:VEVENT
DTSTART;TZID=Europe/Amsterdam:20260830T100000
DTEND;TZID=Europe/Amsterdam:20260830T100000
DTSTAMP:20260423T005131
CREATED:20260410T115612Z
LAST-MODIFIED:20260410T115616Z
UID:30309-1788084000-1788084000@www.rk-parochiesmaastrichtwest.nl
SUMMARY:St. Annakerk\, H. Mis\, m.m.v. Vocalgroup Alliance
DESCRIPTION:
URL:https://www.rk-parochiesmaastrichtwest.nl/event/st-annakerk-h-mis-m-m-v-vocalgroup-alliance-4/
LOCATION:St. Annakerk\, Via Regia 100\, 6217 JW Maastricht\, Via Regia 100\, Maastricht\, 6217 JW
END:VEVENT
BEGIN:VEVENT
DTSTART;TZID=Europe/Amsterdam:20260905T173000
DTEND;TZID=Europe/Amsterdam:20260905T173000
DTSTAMP:20260423T005131
CREATED:20260410T115751Z
LAST-MODIFIED:20260410T115757Z
UID:30311-1788629400-1788629400@www.rk-parochiesmaastrichtwest.nl
SUMMARY:St. Theresia-Jozefkapel\, H. Mis m.m.v. Duo Ubunto
DESCRIPTION:
URL:https://www.rk-parochiesmaastrichtwest.nl/event/st-theresia-jozefkapel-h-mis-m-m-v-duo-ubunto/
LOCATION:St. Theresia_Jozefkerk\, (zij-ingang Theresiakerk aan de D’Artagnanlaan) Maastricht
END:VEVENT
END:VCALENDAR